BEGIN:VCALENDAR
VERSION:2.0
PRODID:-//Eventin//Event Calendar//EN
CALSCALE:GREGORIAN
METHOD:PUBLISH
BEGIN:VEVENT
UID:36f3d51071df6f077403de845efaed6d@costatropical.com
SUMMARY:Exposición colectiva de Primavera
DESCRIPTION:
LOCATION:Casa de la Cultura de Almuñécar
DTSTAMP:20260423T211738Z
DTSTART:20260408T060000Z
DTEND:20260420T150000Z
END:VEVENT
END:VCALENDAR
